BEGIN:VCALENDAR
VERSION:2.0
PRODID:-//GS-Kinesiologie - ECPv6.15.13//NONSGML v1.0//EN
CALSCALE:GREGORIAN
METHOD:PUBLISH
X-WR-CALNAME:GS-Kinesiologie
X-ORIGINAL-URL:https://www.gs-kinesiologie.de
X-WR-CALDESC:Veranstaltungen für GS-Kinesiologie
REFRESH-INTERVAL;VALUE=DURATION:PT1H
X-Robots-Tag:noindex
X-PUBLISHED-TTL:PT1H
BEGIN:VTIMEZONE
TZID:Europe/Berlin
BEGIN:DAYLIGHT
TZOFFSETFROM:+0100
TZOFFSETTO:+0200
TZNAME:CEST
DTSTART:20250330T010000
END:DAYLIGHT
BEGIN:STANDARD
TZOFFSETFROM:+0200
TZOFFSETTO:+0100
TZNAME:CET
DTSTART:20251026T010000
END:STANDARD
BEGIN:DAYLIGHT
TZOFFSETFROM:+0100
TZOFFSETTO:+0200
TZNAME:CEST
DTSTART:20260329T010000
END:DAYLIGHT
BEGIN:STANDARD
TZOFFSETFROM:+0200
TZOFFSETTO:+0100
TZNAME:CET
DTSTART:20261025T010000
END:STANDARD
BEGIN:DAYLIGHT
TZOFFSETFROM:+0100
TZOFFSETTO:+0200
TZNAME:CEST
DTSTART:20270328T010000
END:DAYLIGHT
BEGIN:STANDARD
TZOFFSETFROM:+0200
TZOFFSETTO:+0100
TZNAME:CET
DTSTART:20271031T010000
END:STANDARD
END:VTIMEZONE
BEGIN:VEVENT
DTSTART;VALUE=DATE:20260501
DTEND;VALUE=DATE:20260504
DTSTAMP:20260423T202203
CREATED:20240219T142314Z
LAST-MODIFIED:20250923T085020Z
UID:1652-1777593600-1777852799@www.gs-kinesiologie.de
SUMMARY:ZahnMundKieferKinesiologie
DESCRIPTION:
URL:https://www.gs-kinesiologie.de/seminar/zahnmundkieferkinesiologie/
LOCATION:Bürgersaal\, Hasenbergstr. 8\, Bonstetten\, Deutschland
CATEGORIES:Seminartermine
ATTACH;FMTTYPE=image/jpeg:https://www.gs-kinesiologie.de/wp-content/uploads/2023/11/zahnseminare.jpg
END:VEVENT
BEGIN:VEVENT
DTSTART;VALUE=DATE:20260718
DTEND;VALUE=DATE:20260720
DTSTAMP:20260423T202203
CREATED:20240219T121229Z
LAST-MODIFIED:20260409T135940Z
UID:1595-1784332800-1784505599@www.gs-kinesiologie.de
SUMMARY:Touch for Health®
DESCRIPTION:
URL:https://www.gs-kinesiologie.de/seminar/touch-for-health/
LOCATION:Bürgersaal\, Hasenbergstr. 8\, Bonstetten\, Deutschland
CATEGORIES:Seminartermine
ATTACH;FMTTYPE=image/jpeg:https://www.gs-kinesiologie.de/wp-content/uploads/2023/11/touch-for-health.jpg
END:VEVENT
BEGIN:VEVENT
DTSTART;VALUE=DATE:20260801
DTEND;VALUE=DATE:20260802
DTSTAMP:20260423T202203
CREATED:20240219T130305Z
LAST-MODIFIED:20251022T102637Z
UID:1613-1785542400-1785628799@www.gs-kinesiologie.de
SUMMARY:BNT – Balancieren von Nährstoffen und Toxizität
DESCRIPTION:
URL:https://www.gs-kinesiologie.de/seminar/bnt-balancieren-von-naehrstoffen-und-toxizitaet/
LOCATION:Bürgersaal\, Hasenbergstr. 8\, Bonstetten\, Deutschland
CATEGORIES:Seminartermine
ATTACH;FMTTYPE=image/jpeg:https://www.gs-kinesiologie.de/wp-content/uploads/2023/11/bnt.jpg
END:VEVENT
BEGIN:VEVENT
DTSTART;VALUE=DATE:20261003
DTEND;VALUE=DATE:20261005
DTSTAMP:20260423T202203
CREATED:20240219T120802Z
LAST-MODIFIED:20260302T102519Z
UID:1587-1790985600-1791158399@www.gs-kinesiologie.de
SUMMARY:Three in One Concepts®
DESCRIPTION:
URL:https://www.gs-kinesiologie.de/seminar/three-in-one-concepts/
CATEGORIES:Seminartermine
ATTACH;FMTTYPE=image/jpeg:https://www.gs-kinesiologie.de/wp-content/uploads/2023/11/three-in-one-1.jpg
END:VEVENT
BEGIN:VEVENT
DTSTART;VALUE=DATE:20261010
DTEND;VALUE=DATE:20261011
DTSTAMP:20260423T202203
CREATED:20240708T091250Z
LAST-MODIFIED:20250923T085258Z
UID:1866-1791590400-1791676799@www.gs-kinesiologie.de
SUMMARY:Allergieseminar
DESCRIPTION:
URL:https://www.gs-kinesiologie.de/seminar/allergieseminar/
LOCATION:Bürgersaal\, Hasenbergstr. 8\, Bonstetten\, Deutschland
CATEGORIES:Eintagesprogramme,Seminartermine
ATTACH;FMTTYPE=image/jpeg:https://www.gs-kinesiologie.de/wp-content/uploads/2023/11/eintagesprogramme.jpg
END:VEVENT
BEGIN:VEVENT
DTSTART;VALUE=DATE:20261107
DTEND;VALUE=DATE:20261109
DTSTAMP:20260423T202203
CREATED:20240219T122056Z
LAST-MODIFIED:20260203T100604Z
UID:1598-1794009600-1794182399@www.gs-kinesiologie.de
SUMMARY:Brain Gym®
DESCRIPTION:
URL:https://www.gs-kinesiologie.de/seminar/brain-gym/
LOCATION:Bürgersaal\, Hasenbergstr. 8\, Bonstetten\, Deutschland
CATEGORIES:Seminartermine
ATTACH;FMTTYPE=image/jpeg:https://www.gs-kinesiologie.de/wp-content/uploads/2023/11/brain-gym.jpg
END:VEVENT
BEGIN:VEVENT
DTSTART;VALUE=DATE:20261121
DTEND;VALUE=DATE:20261122
DTSTAMP:20260423T202203
CREATED:20240219T125530Z
LAST-MODIFIED:20250923T084931Z
UID:1609-1795219200-1795305599@www.gs-kinesiologie.de
SUMMARY:Neuropressur
DESCRIPTION:
URL:https://www.gs-kinesiologie.de/seminar/neuropressur/
LOCATION:Bürgersaal\, Hasenbergstr. 8\, Bonstetten\, Deutschland
CATEGORIES:Seminartermine
ATTACH;FMTTYPE=image/jpeg:https://www.gs-kinesiologie.de/wp-content/uploads/2023/11/neuropressur.jpg
END:VEVENT
END:VCALENDAR